BEGIN:VCALENDAR
VERSION:2.0
PRODID:-//Flint Canyon Tennis Club - ECPv6.15.20//NONSGML v1.0//EN
CALSCALE:GREGORIAN
METHOD:PUBLISH
X-WR-CALNAME:Flint Canyon Tennis Club
X-ORIGINAL-URL:https://flintcanyontennisclub.com
X-WR-CALDESC:Events for Flint Canyon Tennis Club
REFRESH-INTERVAL;VALUE=DURATION:PT1H
X-Robots-Tag:noindex
X-PUBLISHED-TTL:PT1H
BEGIN:VTIMEZONE
TZID:UTC
BEGIN:STANDARD
TZOFFSETFROM:+0000
TZOFFSETTO:+0000
TZNAME:UTC
DTSTART:20240101T000000
END:STANDARD
END:VTIMEZONE
BEGIN:VEVENT
DTSTART;VALUE=DATE:20250213
DTEND;VALUE=DATE:20250601
DTSTAMP:20260420T085350
CREATED:20220127T215001Z
LAST-MODIFIED:20250108T010136Z
UID:6540-1739404800-1748735999@flintcanyontennisclub.com
SUMMARY:Next Session - FCTC Super Singles Round Robin
DESCRIPTION:Members Only.\nSLOW tournament Flint Canyon style. Win or lose\, you play everyone in your group.  It takes about 3 months to finish. You’ll play a round every 2 weeks. Great way to meet new players AND get more singles practice! \nBased off of USTA Rating.  If you don’t play USTA\, then club will give you a club rating\nThis Round Robin will begins mid-February and ends late May. Entry Deadline: Monday\, February 3rd(Exact date TBD)
URL:https://flintcanyontennisclub.com/event/next-session-fctc-super-singles-round-robin/
ATTACH;FMTTYPE=image/jpeg:https://flintcanyontennisclub.com/wp-content/uploads/2022/01/pic.jpeg
END:VEVENT
END:VCALENDAR