BEGIN:VCALENDAR
VERSION:2.0
PRODID:-//Flint Canyon Tennis Club - ECPv6.15.20//NONSGML v1.0//EN
CALSCALE:GREGORIAN
METHOD:PUBLISH
X-ORIGINAL-URL:https://flintcanyontennisclub.com
X-WR-CALDESC:Events for Flint Canyon Tennis Club
REFRESH-INTERVAL;VALUE=DURATION:PT1H
X-Robots-Tag:noindex
X-PUBLISHED-TTL:PT1H
BEGIN:VTIMEZONE
TZID:UTC
BEGIN:STANDARD
TZOFFSETFROM:+0000
TZOFFSETTO:+0000
TZNAME:UTC
DTSTART:20250101T000000
END:STANDARD
END:VTIMEZONE
BEGIN:VEVENT
DTSTART;TZID=UTC:20260316T073000
DTEND;TZID=UTC:20260317T213000
DTSTAMP:20260421T154124
CREATED:20260221T194455Z
LAST-MODIFIED:20260221T194455Z
UID:837-1773646200-1773783000@flintcanyontennisclub.com
SUMMARY:Parking Lot Resurfacing (March 16th & 17th)
DESCRIPTION:Hello one & all! \nWeather permitting\, parking lot resurfacing is tentatively due to begin March 16th & 17th.  Plan accordingly as only 1/2 of the parking lot will be accessible. Please consider carpooling. \nPlease be aware it will also be noisy\, dusty\, etc. \n\nThank you\, as always\, for your understanding and patience as we complete this process.\nWe look forward to seeing everyone on the courts.
URL:https://flintcanyontennisclub.com/event/parking-lot-resurfacing-march-16th-17th/
CATEGORIES:Adult Clinics
END:VEVENT
END:VCALENDAR