BEGIN:VCALENDAR
VERSION:2.0
PRODID:-//Flint Canyon Tennis Club - ECPv6.15.20//NONSGML v1.0//EN
CALSCALE:GREGORIAN
METHOD:PUBLISH
X-WR-CALNAME:Flint Canyon Tennis Club
X-ORIGINAL-URL:https://flintcanyontennisclub.com
X-WR-CALDESC:Events for Flint Canyon Tennis Club
REFRESH-INTERVAL;VALUE=DURATION:PT1H
X-Robots-Tag:noindex
X-PUBLISHED-TTL:PT1H
BEGIN:VTIMEZONE
TZID:UTC
BEGIN:STANDARD
TZOFFSETFROM:+0000
TZOFFSETTO:+0000
TZNAME:UTC
DTSTART:20170101T000000
END:STANDARD
END:VTIMEZONE
BEGIN:VEVENT
DTSTART;VALUE=DATE:20240413
DTEND;VALUE=DATE:20240414
DTSTAMP:20260421T133432
CREATED:20221216T195554Z
LAST-MODIFIED:20250114T021908Z
UID:6643-1712966400-1713052799@flintcanyontennisclub.com
SUMMARY:Inter-club with Altadena Town & Country Club
DESCRIPTION:Doubles Inter-club with Altadena Town & Country Club.\nThey host. Matches from 1pm–4pm (members only) \nGender/Level groupings TBD.
URL:https://flintcanyontennisclub.com/event/inter-club-with-altadena-country-club/
ATTACH;FMTTYPE=image/jpeg:https://flintcanyontennisclub.com/wp-content/uploads/2022/12/doubles.jpeg
END:VEVENT
BEGIN:VEVENT
DTSTART;VALUE=DATE:20231202
DTEND;VALUE=DATE:20231203
DTSTAMP:20260421T133432
CREATED:20190215T212101Z
LAST-MODIFIED:20230808T222704Z
UID:6365-1701475200-1701561599@flintcanyontennisclub.com
SUMMARY:2023 "Oh So So Casual" Holiday Mixed Doubles Social
DESCRIPTION:Members Only Event.  \nWHEN: SATURDAY\, DECEMBER 2nd \nPlease join us in our 2023 “Oh So Casual” Holiday Mixed Doubles Round Robin event! We will play a lot & eat a bit… \nFUN STUFF TO KNOW:\nWarm-up as of 12:30pm and the round robin event promptly starts at 1pm (ends at 3pm).\nSocial Mixer will follow at around 3pm with hors d’oeuvres (light snack) & drinks.  \nBased on USTA Ratings: 4.5+\, 4.0\, 3.0\, 3.5\, 3.0\nLimit: Total of 25 teams\nDeadline: Monday\, November 27th \nPlease note that this is an adult only event. If you don’t have a partner\, let the front desk know so we may assist you in getting a partner.  We’ll do the best we can.  Contact the front desk to sign up! Looking forward to hearing from you!Spruce Tree branch on Wood Background and defocused lights.
URL:https://flintcanyontennisclub.com/event/annual-fctc-holiday-party-2/
END:VEVENT
BEGIN:VEVENT
DTSTART;TZID=UTC:20231118T120000
DTEND;TZID=UTC:20231118T163000
DTSTAMP:20260421T133432
CREATED:20220409T120040Z
LAST-MODIFIED:20230801T203331Z
UID:6520-1700308800-1700325000@flintcanyontennisclub.com
SUMMARY:2023 Foothill Clubs - Mixed Doubles Championships
DESCRIPTION:Join us and other local clubs in the 2023 Foothill Clubs Mixed Doubles Championship! \nWhen: November 18th – 1 Day Shoot Out (12pm–4pm) \nWhere: Various clubs. Locations for each level will be released the week of the event to those participating.  \nEvent Levels*: 3.0\, 3.5\, 4.0\, & Open\n*All players must enter categories reflecting their USTA ratings.\n*Juniors under 18 MUST play in the “Open” Category.  \nAwards: For all division winners.  \nDetails will be sent out by email to all those participating.
URL:https://flintcanyontennisclub.com/event/2023-foothill-clubs-mixed-doubles-championships/
END:VEVENT
BEGIN:VEVENT
DTSTART;TZID=UTC:20220927T080000
DTEND;TZID=UTC:20220927T170000
DTSTAMP:20260421T133432
CREATED:20220927T201634Z
LAST-MODIFIED:20220927T201634Z
UID:6611-1664265600-1664298000@flintcanyontennisclub.com
SUMMARY:Super Singles Round Robin (Slow Tournament)
DESCRIPTION:Test
URL:https://flintcanyontennisclub.com/event/super-singles-round-robin-slow-tournament/
END:VEVENT
BEGIN:VEVENT
DTSTART;TZID=UTC:20220410T130000
DTEND;TZID=UTC:20220410T150000
DTSTAMP:20260421T133432
CREATED:20220128T195649Z
LAST-MODIFIED:20220128T195649Z
UID:6549-1649595600-1649602800@flintcanyontennisclub.com
SUMMARY:Junior Round Robin
DESCRIPTION:Members Only.\nAll levels are welcomed!\nGroups will be separated out by level (not age)  \nThis is a great way for our Junior Members to come out and meet other players & get some match play practice in! \nEvent will start at 1pm.\nPlease note: You must know how to keep score and set rules in order to participate.
URL:https://flintcanyontennisclub.com/event/junior-round-robin/
ATTACH;FMTTYPE=image/jpeg:https://flintcanyontennisclub.com/wp-content/uploads/2022/01/kids-tennis.jpeg
END:VEVENT
BEGIN:VEVENT
DTSTART;VALUE=DATE:20211015
DTEND;VALUE=DATE:20211016
DTSTAMP:20260421T133432
CREATED:20210827T174547Z
LAST-MODIFIED:20210827T180738Z
UID:6524-1634256000-1634342399@flintcanyontennisclub.com
SUMMARY:"Slow" Singles Round Robin - Fall 2021
DESCRIPTION:Our Fall “Slow” Singles Round Robin Event will begin in October of 2021.  \nWe refer to this round robin event as a “Slow” round robin since the scheduled matches can be scheduled at your leisure.\n\nLevels offered: Men’s & Women’s 3.0\, 3.5\, 4.0\, & 4.5+ Events (Member’s Only) \nEntry Deadline: October 15th 2021. Please email or call us to sign-up  \nHow it works: Sign-up for your respective level. Based on the number of entries per event level\, we will have 1 group per level – or various (and then have a play-off)… you schedule your matches directly with each opponent (you will play everyone in your group)… and we will determine the winners based on Wins vs Losses. (If there is a tie of match wins in a grouping – it will be determined with who the head to head winner was between the top two)  \nYou will have through January 31st 2022 to complete all matches in this Fall/Winter Round Robin.
URL:https://flintcanyontennisclub.com/event/slow-singles-round-robin-fall-2021/
END:VEVENT
BEGIN:VEVENT
DTSTART;VALUE=DATE:20191107
DTEND;VALUE=DATE:20191111
DTSTAMP:20260421T133432
CREATED:20190215T211758Z
LAST-MODIFIED:20190410T195300Z
UID:6363-1573084800-1573430399@flintcanyontennisclub.com
SUMMARY:32nd Annual FCTC Fall Classic
DESCRIPTION:Men’s and Women’s USTA sanctioned OPEN tournament. TourID- 651761019
URL:https://flintcanyontennisclub.com/event/32nd-annual-fctc-fall-classic-2/
END:VEVENT
BEGIN:VEVENT
DTSTART;VALUE=DATE:20191012
DTEND;VALUE=DATE:20191014
DTSTAMP:20260421T133432
CREATED:20190215T211407Z
LAST-MODIFIED:20190215T211407Z
UID:6361-1570838400-1571011199@flintcanyontennisclub.com
SUMMARY:Club Singles Championships
DESCRIPTION:A members only Women’s\, Men’s\, and Juniors singles tournament. Matches begin at 11 O’Clock AM\, and all levels are welcome!
URL:https://flintcanyontennisclub.com/event/club-singles-championships/
END:VEVENT
BEGIN:VEVENT
DTSTART;VALUE=DATE:20190725
DTEND;VALUE=DATE:20190729
DTSTAMP:20260421T133432
CREATED:20190215T205736Z
LAST-MODIFIED:20190215T210526Z
UID:6356-1564012800-1564358399@flintcanyontennisclub.com
SUMMARY:29th Annual Summer Classic
DESCRIPTION:USTA Men’s and Women’s open sanctioned tournament. tournament ID- 651753419
URL:https://flintcanyontennisclub.com/event/29th-annual-summer-classic-2/
END:VEVENT
BEGIN:VEVENT
DTSTART;VALUE=DATE:20190713
DTEND;VALUE=DATE:20190722
DTSTAMP:20260421T133432
CREATED:20190215T205510Z
LAST-MODIFIED:20190215T205510Z
UID:6354-1562976000-1563753599@flintcanyontennisclub.com
SUMMARY:Junior Open
DESCRIPTION:Level 4 USTA sanctioned tournament. Tournament ID- 651752119
URL:https://flintcanyontennisclub.com/event/junior-open/
END:VEVENT
BEGIN:VEVENT
DTSTART;VALUE=DATE:20190607
DTEND;VALUE=DATE:20190610
DTSTAMP:20260421T133432
CREATED:20190215T202826Z
LAST-MODIFIED:20190410T194950Z
UID:6348-1559865600-1560124799@flintcanyontennisclub.com
SUMMARY:La Jolla Beach & Tennis Club
DESCRIPTION:Fun inter-club tennis by the beach! come out and enjoy three days of tennis with a great view! Sign up in advance so you’re not left out!
URL:https://flintcanyontennisclub.com/event/la-jolla-beach-tennis-club/
END:VEVENT
BEGIN:VEVENT
DTSTART;VALUE=DATE:20190427
DTEND;VALUE=DATE:20190430
DTSTAMP:20260421T133432
CREATED:20190215T201944Z
LAST-MODIFIED:20190215T201944Z
UID:6345-1556323200-1556582399@flintcanyontennisclub.com
SUMMARY:FCTC Spring JUNIOR OPEN
DESCRIPTION:USTA sanctioned tournament level 5. Tournament ID-650034519
URL:https://flintcanyontennisclub.com/event/fctc-spring-junior-open/
END:VEVENT
BEGIN:VEVENT
DTSTART;VALUE=DATE:20190406
DTEND;VALUE=DATE:20190407
DTSTAMP:20260421T133432
CREATED:20190215T194650Z
LAST-MODIFIED:20190215T200224Z
UID:6338-1554508800-1554595199@flintcanyontennisclub.com
SUMMARY:Foothill Club Doubles Championship
DESCRIPTION:This is a members only inter-club tournament meant to test your doubles skills against new players from other clubs! Look forward to seeing players from FCTC\, VHC\, Live Oaks\, Toluca Lake\, and ATCC. Women’s and Men’s 3.0\, 3.5\, 4.0\, & Open will be played in a new one day format.
URL:https://flintcanyontennisclub.com/event/foothill-club-doubles-championship/
END:VEVENT
BEGIN:VEVENT
DTSTART;VALUE=DATE:20181208
DTEND;VALUE=DATE:20181209
DTSTAMP:20260421T133432
CREATED:20180703T172945Z
LAST-MODIFIED:20180703T172945Z
UID:579-1544227200-1544313599@flintcanyontennisclub.com
SUMMARY:Annual FCTC Holiday Party
DESCRIPTION:We’ll play a little & have lots of fun!!
URL:https://flintcanyontennisclub.com/event/annual-fctc-holiday-party/
ATTACH;FMTTYPE=image/jpeg:https://flintcanyontennisclub.com/wp-content/uploads/2018/07/tennis-stars-wish-their-fans-a-very-merry-christmas.jpg
END:VEVENT
BEGIN:VEVENT
DTSTART;VALUE=DATE:20181108
DTEND;VALUE=DATE:20181112
DTSTAMP:20260421T133432
CREATED:20180703T172623Z
LAST-MODIFIED:20180703T172623Z
UID:577-1541635200-1541980799@flintcanyontennisclub.com
SUMMARY:32nd Annual FCTC Fall Classic
DESCRIPTION:USTA Sanctioned Men’s & Women’s Open. Tournament ID(651761018) \nSign up online or at the front desk.
URL:https://flintcanyontennisclub.com/event/32nd-annual-fctc-fall-classic/
ATTACH;FMTTYPE=image/jpeg:https://flintcanyontennisclub.com/wp-content/uploads/2016/01/HomeIcon_USTA.jpg
END:VEVENT
BEGIN:VEVENT
DTSTART;VALUE=DATE:20181013
DTEND;VALUE=DATE:20181015
DTSTAMP:20260421T133432
CREATED:20180703T172137Z
LAST-MODIFIED:20180703T172137Z
UID:575-1539388800-1539561599@flintcanyontennisclub.com
SUMMARY:Club Singles Championship (Men's\, Women's\, & Juniors)
DESCRIPTION:All Levels are welcome! Matches begin at 11 am. Members only! \nSign up at the front desk.
URL:https://flintcanyontennisclub.com/event/club-singles-championship-mens-womens-juniors/
ATTACH;FMTTYPE=image/jpeg:https://flintcanyontennisclub.com/wp-content/uploads/2016/01/header-2.jpg
END:VEVENT
BEGIN:VEVENT
DTSTART;VALUE=DATE:20180728
DTEND;VALUE=DATE:20180729
DTSTAMP:20260421T133432
CREATED:20180703T170747Z
LAST-MODIFIED:20180703T170747Z
UID:571-1532736000-1532822399@flintcanyontennisclub.com
SUMMARY:Foothill Clubs Championship
DESCRIPTION:Mixed Doubles(3.5\,4.0\,4.5) New One Day Format!! Round Robin Shoot Out!!\nMatches to be held at FCTC\, VHC\, ATCC\, Live Oaks\, & Toluca Lake. \nSign-up at the front desk or by email.
URL:https://flintcanyontennisclub.com/event/foothill-clubs-championship/
ATTACH;FMTTYPE=image/jpeg:https://flintcanyontennisclub.com/wp-content/uploads/2016/01/IMG_1885.jpg
END:VEVENT
BEGIN:VEVENT
DTSTART;VALUE=DATE:20180726
DTEND;VALUE=DATE:20180730
DTSTAMP:20260421T133432
CREATED:20180703T171339Z
LAST-MODIFIED:20180703T171409Z
UID:573-1532563200-1532908799@flintcanyontennisclub.com
SUMMARY:29th Annual Summer Classic
DESCRIPTION:USTA Sanctioned Men’s & Women’s Open (Tournament ID 651752118) \nSign up online or at the front desk.
URL:https://flintcanyontennisclub.com/event/29th-annual-summer-classic/
ATTACH;FMTTYPE=image/jpeg:https://flintcanyontennisclub.com/wp-content/uploads/2016/01/HomeIcon_USTA.jpg
END:VEVENT
BEGIN:VEVENT
DTSTART;TZID=UTC:20180711T190000
DTEND;TZID=UTC:20180711T203000
DTSTAMP:20260421T133432
CREATED:20180703T193518Z
LAST-MODIFIED:20180705T182557Z
UID:1528-1531335600-1531341000@flintcanyontennisclub.com
SUMMARY:Adult Clinic(3.5 & Above)
DESCRIPTION:Instructor-Chris. To sign up\, click here.\n*1.5 hour clinic but “grandfathered in” at the 1 hour clinic rate.
URL:https://flintcanyontennisclub.com/event/adult-clinic3-5-3/
END:VEVENT
BEGIN:VEVENT
DTSTART;TZID=UTC:20180711T083000
DTEND;TZID=UTC:20180711T100000
DTSTAMP:20260421T133432
CREATED:20180703T192249Z
LAST-MODIFIED:20180705T175057Z
UID:1338-1531297800-1531303200@flintcanyontennisclub.com
SUMMARY:Adult 3.0-3.5 Clinic
DESCRIPTION:Instructor-Chris. To sign up\, click here.
URL:https://flintcanyontennisclub.com/event/adult-3-0-3-5-clinic-2/
END:VEVENT
BEGIN:VEVENT
DTSTART;TZID=UTC:20180709T183000
DTEND;TZID=UTC:20180709T200000
DTSTAMP:20260421T133432
CREATED:20180703T193234Z
LAST-MODIFIED:20180705T175707Z
UID:1487-1531161000-1531166400@flintcanyontennisclub.com
SUMMARY:Adult Clinic(3.5 & Above)
DESCRIPTION:Instructor-Chris. To sign up\, click here.
URL:https://flintcanyontennisclub.com/event/adult-clinic3-5/
END:VEVENT
BEGIN:VEVENT
DTSTART;TZID=UTC:20180709T153000
DTEND;TZID=UTC:20180709T163000
DTSTAMP:20260421T133432
CREATED:20180703T191018Z
LAST-MODIFIED:20180705T182751Z
UID:683-1531150200-1531153800@flintcanyontennisclub.com
SUMMARY:Pee Wee Class
DESCRIPTION:Ages 5-7. Instructor-Staff. Class actually starts at 345pm. To sign up\, click here.
URL:https://flintcanyontennisclub.com/event/pee-wee-class/
END:VEVENT
BEGIN:VEVENT
DTSTART;TZID=UTC:20180709T100000
DTEND;TZID=UTC:20180709T110000
DTSTAMP:20260421T133432
CREATED:20180703T191345Z
LAST-MODIFIED:20180705T182829Z
UID:724-1531130400-1531134000@flintcanyontennisclub.com
SUMMARY:Adult 3.0-3.5 Clinic
DESCRIPTION:Instructor-Martin. To sign up\, click here.
URL:https://flintcanyontennisclub.com/event/adult-3-0-3-5-clinic/
END:VEVENT
BEGIN:VEVENT
DTSTART;TZID=UTC:20180709T080000
DTEND;TZID=UTC:20180709T170000
DTSTAMP:20260421T133432
CREATED:20180703T190329Z
LAST-MODIFIED:20180705T184238Z
UID:2827-1531123200-1531155600@flintcanyontennisclub.com
SUMMARY:Intermediate and Advanced Junior Clinic
DESCRIPTION:(Ages 12-18). Instructor-Martin+ Assistants.\nTo sign up\, click here
URL:https://flintcanyontennisclub.com/event/intermediate-advanced-junior-clinic-2018-07-09/
END:VEVENT
BEGIN:VEVENT
DTSTART;TZID=UTC:20180707T080000
DTEND;TZID=UTC:20180707T090000
DTSTAMP:20260421T133432
CREATED:20180703T192956Z
LAST-MODIFIED:20180705T183118Z
UID:1413-1530950400-1530954000@flintcanyontennisclub.com
SUMMARY:Adult Clinic(3.5-4.0)
DESCRIPTION:Instructor-Chris. To sign up\, click here.
URL:https://flintcanyontennisclub.com/event/adult-clinic3-5-4-0/
END:VEVENT
BEGIN:VEVENT
DTSTART;TZID=UTC:20180707T073000
DTEND;TZID=UTC:20180707T080000
DTSTAMP:20260421T133432
CREATED:20180703T192834Z
LAST-MODIFIED:20180705T182212Z
UID:1374-1530948600-1530950400@flintcanyontennisclub.com
SUMMARY:Adult Clinic(All levels)
DESCRIPTION:Instructor-Staff. FREE(Members Only). Note-Clinic starts at 715am. To sign up\, click here.
URL:https://flintcanyontennisclub.com/event/adult-clinicall-levels/
END:VEVENT
BEGIN:VEVENT
DTSTART;TZID=UTC:20180706T180000
DTEND;TZID=UTC:20180706T190000
DTSTAMP:20260421T133432
CREATED:20180703T194020Z
LAST-MODIFIED:20180705T183236Z
UID:1610-1530900000-1530903600@flintcanyontennisclub.com
SUMMARY:Adult Clinic(Cardio Tennis\, All levels)
DESCRIPTION:Instructor-Neil. To sign up\, click here.
URL:https://flintcanyontennisclub.com/event/adult-cliniccardio-tennis-levels/
END:VEVENT
BEGIN:VEVENT
DTSTART;TZID=UTC:20180706T153000
DTEND;TZID=UTC:20180706T173000
DTSTAMP:20260421T133432
CREATED:20180703T190650Z
LAST-MODIFIED:20180705T182249Z
UID:651-1530891000-1530898200@flintcanyontennisclub.com
SUMMARY:Intermediate and Advanced Junior Clinic
DESCRIPTION:(Ages 12-18) Instructor-Jong+ Assistant. To sign up\, click here.
URL:https://flintcanyontennisclub.com/event/intermediate-advanced-junior-clinic-2/
END:VEVENT
BEGIN:VEVENT
DTSTART;TZID=UTC:20180705T193000
DTEND;TZID=UTC:20180705T210000
DTSTAMP:20260421T133432
CREATED:20180703T193735Z
LAST-MODIFIED:20180705T182415Z
UID:1573-1530819000-1530824400@flintcanyontennisclub.com
SUMMARY:Adult Clinic (3.5 & Above)
DESCRIPTION:Instructor-Martin. To sign up\, click here.
URL:https://flintcanyontennisclub.com/event/adult-clinic-3-5/
END:VEVENT
BEGIN:VEVENT
DTSTART;TZID=UTC:20180705T153000
DTEND;TZID=UTC:20180705T173000
DTSTAMP:20260421T133432
CREATED:20180705T190016Z
LAST-MODIFIED:20180705T190016Z
UID:4288-1530804600-1530811800@flintcanyontennisclub.com
SUMMARY:Intermediate and Advanced Junior Clinic
DESCRIPTION:Ages(12-18). Instructor- Martin + Assistants. To sign up\, click here.
URL:https://flintcanyontennisclub.com/event/intermediate-advanced-junior-clinic-3/
END:VEVENT
END:VCALENDAR