BEGIN:VCALENDAR
VERSION:2.0
PRODID:-//Flint Canyon Tennis Club - ECPv6.15.20//NONSGML v1.0//EN
CALSCALE:GREGORIAN
METHOD:PUBLISH
X-WR-CALNAME:Flint Canyon Tennis Club
X-ORIGINAL-URL:https://flintcanyontennisclub.com
X-WR-CALDESC:Events for Flint Canyon Tennis Club
REFRESH-INTERVAL;VALUE=DURATION:PT1H
X-Robots-Tag:noindex
X-PUBLISHED-TTL:PT1H
BEGIN:VTIMEZONE
TZID:UTC
BEGIN:STANDARD
TZOFFSETFROM:+0000
TZOFFSETTO:+0000
TZNAME:UTC
DTSTART:20160101T000000
END:STANDARD
END:VTIMEZONE
BEGIN:VEVENT
DTSTART;TZID=UTC:20180709T183000
DTEND;TZID=UTC:20180709T200000
DTSTAMP:20260421T223838
CREATED:20180703T193234Z
LAST-MODIFIED:20180705T175707Z
UID:1487-1531161000-1531166400@flintcanyontennisclub.com
SUMMARY:Adult Clinic(3.5 & Above)
DESCRIPTION:Instructor-Chris. To sign up\, click here.
URL:https://flintcanyontennisclub.com/event/adult-clinic3-5/
END:VEVENT
BEGIN:VEVENT
DTSTART;TZID=UTC:20180709T153000
DTEND;TZID=UTC:20180709T163000
DTSTAMP:20260421T223838
CREATED:20180703T191018Z
LAST-MODIFIED:20180705T182751Z
UID:683-1531150200-1531153800@flintcanyontennisclub.com
SUMMARY:Pee Wee Class
DESCRIPTION:Ages 5-7. Instructor-Staff. Class actually starts at 345pm. To sign up\, click here.
URL:https://flintcanyontennisclub.com/event/pee-wee-class/
END:VEVENT
BEGIN:VEVENT
DTSTART;TZID=UTC:20180709T100000
DTEND;TZID=UTC:20180709T110000
DTSTAMP:20260421T223838
CREATED:20180703T191345Z
LAST-MODIFIED:20180705T182829Z
UID:724-1531130400-1531134000@flintcanyontennisclub.com
SUMMARY:Adult 3.0-3.5 Clinic
DESCRIPTION:Instructor-Martin. To sign up\, click here.
URL:https://flintcanyontennisclub.com/event/adult-3-0-3-5-clinic/
END:VEVENT
BEGIN:VEVENT
DTSTART;TZID=UTC:20180709T080000
DTEND;TZID=UTC:20180709T170000
DTSTAMP:20260421T223838
CREATED:20180703T190329Z
LAST-MODIFIED:20180705T184238Z
UID:2827-1531123200-1531155600@flintcanyontennisclub.com
SUMMARY:Intermediate and Advanced Junior Clinic
DESCRIPTION:(Ages 12-18). Instructor-Martin+ Assistants.\nTo sign up\, click here
URL:https://flintcanyontennisclub.com/event/intermediate-advanced-junior-clinic-2018-07-09/
END:VEVENT
BEGIN:VEVENT
DTSTART;TZID=UTC:20180707T080000
DTEND;TZID=UTC:20180707T090000
DTSTAMP:20260421T223838
CREATED:20180703T192956Z
LAST-MODIFIED:20180705T183118Z
UID:1413-1530950400-1530954000@flintcanyontennisclub.com
SUMMARY:Adult Clinic(3.5-4.0)
DESCRIPTION:Instructor-Chris. To sign up\, click here.
URL:https://flintcanyontennisclub.com/event/adult-clinic3-5-4-0/
END:VEVENT
BEGIN:VEVENT
DTSTART;TZID=UTC:20180707T073000
DTEND;TZID=UTC:20180707T080000
DTSTAMP:20260421T223838
CREATED:20180703T192834Z
LAST-MODIFIED:20180705T182212Z
UID:1374-1530948600-1530950400@flintcanyontennisclub.com
SUMMARY:Adult Clinic(All levels)
DESCRIPTION:Instructor-Staff. FREE(Members Only). Note-Clinic starts at 715am. To sign up\, click here.
URL:https://flintcanyontennisclub.com/event/adult-clinicall-levels/
END:VEVENT
BEGIN:VEVENT
DTSTART;TZID=UTC:20180706T180000
DTEND;TZID=UTC:20180706T190000
DTSTAMP:20260421T223838
CREATED:20180703T194020Z
LAST-MODIFIED:20180705T183236Z
UID:1610-1530900000-1530903600@flintcanyontennisclub.com
SUMMARY:Adult Clinic(Cardio Tennis\, All levels)
DESCRIPTION:Instructor-Neil. To sign up\, click here.
URL:https://flintcanyontennisclub.com/event/adult-cliniccardio-tennis-levels/
END:VEVENT
BEGIN:VEVENT
DTSTART;TZID=UTC:20180706T153000
DTEND;TZID=UTC:20180706T173000
DTSTAMP:20260421T223838
CREATED:20180703T190650Z
LAST-MODIFIED:20180705T182249Z
UID:651-1530891000-1530898200@flintcanyontennisclub.com
SUMMARY:Intermediate and Advanced Junior Clinic
DESCRIPTION:(Ages 12-18) Instructor-Jong+ Assistant. To sign up\, click here.
URL:https://flintcanyontennisclub.com/event/intermediate-advanced-junior-clinic-2/
END:VEVENT
BEGIN:VEVENT
DTSTART;TZID=UTC:20180705T193000
DTEND;TZID=UTC:20180705T210000
DTSTAMP:20260421T223838
CREATED:20180703T193735Z
LAST-MODIFIED:20180705T182415Z
UID:1573-1530819000-1530824400@flintcanyontennisclub.com
SUMMARY:Adult Clinic (3.5 & Above)
DESCRIPTION:Instructor-Martin. To sign up\, click here.
URL:https://flintcanyontennisclub.com/event/adult-clinic-3-5/
END:VEVENT
BEGIN:VEVENT
DTSTART;TZID=UTC:20180705T153000
DTEND;TZID=UTC:20180705T173000
DTSTAMP:20260421T223838
CREATED:20180705T190016Z
LAST-MODIFIED:20180705T190016Z
UID:4288-1530804600-1530811800@flintcanyontennisclub.com
SUMMARY:Intermediate and Advanced Junior Clinic
DESCRIPTION:Ages(12-18). Instructor- Martin + Assistants. To sign up\, click here.
URL:https://flintcanyontennisclub.com/event/intermediate-advanced-junior-clinic-3/
END:VEVENT
BEGIN:VEVENT
DTSTART;TZID=UTC:20180705T100000
DTEND;TZID=UTC:20180705T110000
DTSTAMP:20260421T223838
CREATED:20180703T192604Z
LAST-MODIFIED:20180705T182447Z
UID:1340-1530784800-1530788400@flintcanyontennisclub.com
SUMMARY:3.5 & Above Adult Clinic.
DESCRIPTION:Instructor-Martin. To sign up\, click here.
URL:https://flintcanyontennisclub.com/event/3-5-adult-clinic/
END:VEVENT
BEGIN:VEVENT
DTSTART;VALUE=DATE:20180704
DTEND;VALUE=DATE:20180705
DTSTAMP:20260421T223838
CREATED:20180703T161120Z
LAST-MODIFIED:20180703T161421Z
UID:561-1530662400-1530748799@flintcanyontennisclub.com
SUMMARY:4th Of July
DESCRIPTION:We are closed for the holiday – the courts are open on a 1st come\, first serve basis.\nMembers may bring a guest today\, on the house.  \nEnjoy!
URL:https://flintcanyontennisclub.com/event/4th-of-july/
ATTACH;FMTTYPE=image/jpeg:https://flintcanyontennisclub.com/wp-content/uploads/2018/07/shutterstock-61933045.jpg
END:VEVENT
BEGIN:VEVENT
DTSTART;TZID=UTC:20180703T183000
DTEND;TZID=UTC:20180703T200000
DTSTAMP:20260421T223838
CREATED:20180703T193354Z
LAST-MODIFIED:20180705T174914Z
UID:1504-1530642600-1530648000@flintcanyontennisclub.com
SUMMARY:Adult Clinic(3.5& Above)
DESCRIPTION:Instructor-Chris. To sign up\, click here.
URL:https://flintcanyontennisclub.com/event/adult-clinic3-5-2/
END:VEVENT
BEGIN:VEVENT
DTSTART;TZID=UTC:20180703T173000
DTEND;TZID=UTC:20180703T183000
DTSTAMP:20260421T223838
CREATED:20180703T185527Z
LAST-MODIFIED:20180705T182527Z
UID:585-1530639000-1530642600@flintcanyontennisclub.com
SUMMARY:Beginner and Advanced Beginner Junior Clinic
DESCRIPTION:(Ages 7-12) Instructor- Martin + Assistants.\nTo sign up\, click here
URL:https://flintcanyontennisclub.com/event/junior-clinic/
END:VEVENT
BEGIN:VEVENT
DTSTART;TZID=UTC:20180703T153000
DTEND;TZID=UTC:20180703T173000
DTSTAMP:20260421T223838
CREATED:20180703T190329Z
LAST-MODIFIED:20180705T190306Z
UID:629-1530631800-1530639000@flintcanyontennisclub.com
SUMMARY:Intermediate and Advanced Junior Clinic
DESCRIPTION:(Ages 12-18). Instructor-Martin+ Assistants.\nTo sign up\, click here
URL:https://flintcanyontennisclub.com/event/intermediate-advanced-junior-clinic/
END:VEVENT
BEGIN:VEVENT
DTSTART;VALUE=DATE:20180407
DTEND;VALUE=DATE:20180408
DTSTAMP:20260421T223838
CREATED:20171218T202101Z
LAST-MODIFIED:20171218T205345Z
UID:503-1523059200-1523145599@flintcanyontennisclub.com
SUMMARY:Foothill Clubs Doubles Championship
DESCRIPTION:Men’s & Women’s Doubles Championship  \nLevels: 3.5\, 4.0\, & Open (Based on USTA Ratings)  \nFormat: Round Robin Shoot Out (One Day Format)  \nMatches to be held at FCT\, Valley Hunt Club\, Live Oak\, Toluca Lake\, and Altadena Town & Country Club \nPlease register by emailing admin@flintcanyon.com (or your own club if you are not a member of FCTC)  \n(Members Only Event for all participating clubs)
URL:https://flintcanyontennisclub.com/event/foothill-clubs-doubles-championship-2/
ATTACH;FMTTYPE=image/jpeg:https://flintcanyontennisclub.com/wp-content/uploads/2016/01/calendar.jpg
END:VEVENT
BEGIN:VEVENT
DTSTART;VALUE=DATE:20180216
DTEND;VALUE=DATE:20180220
DTSTAMP:20260421T223838
CREATED:20171218T190627Z
LAST-MODIFIED:20171218T192625Z
UID:489-1518739200-1519084799@flintcanyontennisclub.com
SUMMARY:Trip to Palm Desert
DESCRIPTION:Join us for a fun trip to the Palm Springs area! Our club will play against other clubs in the desert.  \nOur hotel of choice is Shadow Mountain Resort & Tennis Club. If you stay at this hotel you will receive our discounted group rate (and avoid a guest fee when we play at this location\, as this will be our “home” court).  \nPlease email us at: admin@flintcanyon.com for more details on this event.
URL:https://flintcanyontennisclub.com/event/trip-palm-desert/
ATTACH;FMTTYPE=image/jpeg:https://flintcanyontennisclub.com/wp-content/uploads/2017/12/slideshow-resort-sunset.jpg
END:VEVENT
BEGIN:VEVENT
DTSTART;VALUE=DATE:20171231
DTEND;VALUE=DATE:20180102
DTSTAMP:20260421T223838
CREATED:20171218T200754Z
LAST-MODIFIED:20171218T200754Z
UID:499-1514678400-1514851199@flintcanyontennisclub.com
SUMMARY:Holiday Hours
DESCRIPTION:Sunday\, December 31st (New Years Eve): 7:30am – 1pm* \nMonday\, January 1st (New Years Day): 10am – 3pm* \n*Clubhouse will be closed but courts are open on a first come\, first serve basis (Members only – limit of 1 complimentary guest per family when clubhouse is closed). Remember to use the restroom before you play – since the clubhouse will be closed there will be no restrooms available. Please limit yourself to one court per family and to one hour of play if people are waiting to get on… if not  – play as long as there is light out! =)  \nHappy New Years!
URL:https://flintcanyontennisclub.com/event/holiday-hours-2/
ATTACH;FMTTYPE=image/jpeg:https://flintcanyontennisclub.com/wp-content/uploads/2017/12/Happy-New-Year-Images-2018.jpg
END:VEVENT
BEGIN:VEVENT
DTSTART;VALUE=DATE:20171224
DTEND;VALUE=DATE:20171226
DTSTAMP:20260421T223838
CREATED:20171218T195901Z
LAST-MODIFIED:20171218T200431Z
UID:497-1514073600-1514246399@flintcanyontennisclub.com
SUMMARY:Holiday Hours
DESCRIPTION:Sunday\, December 24th (Christmas Eve): 7:30am – 1pm* \nMonday\, December 25th (Christmas Day): Closed* \n*Clubhouse will be closed but courts are open on a first come\, first serve basis (Members only – limit of 1 complimentary guest per family when clubhouse is closed). Remember to use the restroom before you play – since the clubhouse will be closed there will be no restrooms available. Please limit yourself to one court per family and to one hour of play if people are waiting to get on… if not  – play as long as there is light out! =)  \nHappy holidays!!!!
URL:https://flintcanyontennisclub.com/event/holiday-hours/
ATTACH;FMTTYPE=image/jpeg:https://flintcanyontennisclub.com/wp-content/uploads/2017/12/christmas-hours.jpg
END:VEVENT
BEGIN:VEVENT
DTSTART;TZID=UTC:20171202T150000
DTEND;TZID=UTC:20171202T203000
DTSTAMP:20260421T223838
CREATED:20170222T050323Z
LAST-MODIFIED:20171121T202030Z
UID:359-1512226800-1512246600@flintcanyontennisclub.com
SUMMARY:Holiday Party
DESCRIPTION:Come join us for our Annual FCTC Holiday Party. \n…Spread a little holiday cheer with us in our traditional holiday party! \nWe will play a little… eat and drink a lot! \nRound Robin: 3:30pm (3pm warm-up) – All levels welcomed (Adults only)\nDinner to follow (approximately around 5pm)  \n$50 per person – 1/2 price for juniors.
URL:https://flintcanyontennisclub.com/event/holiday-party/
LOCATION:FCTC\, 265 Berkshire Ave\, La Canada\, CA\, 91011\, United States
END:VEVENT
BEGIN:VEVENT
DTSTART;TZID=UTC:20171109T173000
DTEND;TZID=UTC:20171112T173000
DTSTAMP:20260421T223838
CREATED:20170222T050056Z
LAST-MODIFIED:20170222T050056Z
UID:357-1510248600-1510507800@flintcanyontennisclub.com
SUMMARY:Men's & Women's Open Tournament
DESCRIPTION:Men’s & Women’s Open Singles\, Doubles & Mixed Doubles Event.  \nCome out and match up against other top level players! \nWeekends of November 9\, 10\, 11 & 12\nEntry Deadline: Monday November 6th  \nCost: $43.50 Singles (Single Elimination) – $27.50 Doubles (Per Player) \nEvents: Men’s & Women’s Singles Open\, Mixed Open Doubles\, and Mens or Women’s Open Doubles \nFor Tournament information (& to enter) Click here to enter through USTA’s website \nNOTES:\nMatches will NOT begin before 5:30pm on Thursday and Friday and not before 11 am on Saturday and Sunday.\nFor tournament questions contact Horacio directly by email: horacio@flintcanyon.com or call the club at 818-790-3355
URL:https://flintcanyontennisclub.com/event/mens-womens-open-tournament-2/
END:VEVENT
BEGIN:VEVENT
DTSTART;TZID=UTC:20171013T110000
DTEND;TZID=UTC:20171015T173000
DTSTAMP:20260421T223838
CREATED:20170222T045633Z
LAST-MODIFIED:20170222T045633Z
UID:354-1507892400-1508088600@flintcanyontennisclub.com
SUMMARY:Club Singles Championships (All Levels/Ages)
DESCRIPTION:Club Singles Championship – Members Only  \nMen’s\, Women’s & Junior’s.\nAll levels and ages welcomed.  \nMatches begin at 11 am.  \nDate: October 13\, 14 & 15 \nNote: The singles ladder will be reset based off of the results from this event.
URL:https://flintcanyontennisclub.com/event/club-singles-championships-levelsages/
LOCATION:FCTC\, 265 Berkshire Ave\, La Canada\, CA\, 91011\, United States
END:VEVENT
BEGIN:VEVENT
DTSTART;TZID=UTC:20170821T203000
DTEND;TZID=UTC:20170821T223000
DTSTAMP:20260421T223838
CREATED:20170626T192150Z
LAST-MODIFIED:20170626T192150Z
UID:455-1503347400-1503354600@flintcanyontennisclub.com
SUMMARY:Summer Moonlight Round Robin (#7 of 7)
DESCRIPTION:Participants must be 5.0 and/or open level players.  \nMale and female participants welcomed.  \nMinimum age: 16 years old \nEntry Fee: $22/player \nTime: 8:30pm  (could end by 10 or 10:30pm)  \nPlease email or call to register.\nP: 818-790-3355\nE: admin@flintcanyon.com
URL:https://flintcanyontennisclub.com/event/summer-moonlight-round-robin-7-7/
END:VEVENT
BEGIN:VEVENT
DTSTART;TZID=UTC:20170814T080000
DTEND;TZID=UTC:20170814T170000
DTSTAMP:20260421T223838
CREATED:20170626T192115Z
LAST-MODIFIED:20170626T192115Z
UID:453-1502697600-1502730000@flintcanyontennisclub.com
SUMMARY:Summer Moonlight Round Robin (#6 of 7)
DESCRIPTION:Participants must be 5.0 and/or open level players.  \nMale and female participants welcomed.  \nMinimum age: 16 years old \nEntry Fee: $22/player \nTime: 8:30pm  (could end by 10 or 10:30pm)  \nPlease email or call to register.\nP: 818-790-3355\nE: admin@flintcanyon.com
URL:https://flintcanyontennisclub.com/event/summer-moonlight-round-robin-6-7/
END:VEVENT
BEGIN:VEVENT
DTSTART;TZID=UTC:20170807T203000
DTEND;TZID=UTC:20170807T223000
DTSTAMP:20260421T223838
CREATED:20170626T192034Z
LAST-MODIFIED:20170626T192034Z
UID:451-1502137800-1502145000@flintcanyontennisclub.com
SUMMARY:Summer Moonlight Round Robin (#5 of 7)
DESCRIPTION:Participants must be 5.0 and/or open level players.  \nMale and female participants welcomed.  \nMinimum age: 16 years old \nEntry Fee: $22/player \nTime: 8:30pm  (could end by 10 or 10:30pm)  \nPlease email or call to register.\nP: 818-790-3355\nE: admin@flintcanyon.com
URL:https://flintcanyontennisclub.com/event/summer-moonlight-round-robin-5-7/
END:VEVENT
BEGIN:VEVENT
DTSTART;TZID=UTC:20170731T203000
DTEND;TZID=UTC:20170731T223000
DTSTAMP:20260421T223838
CREATED:20170626T191701Z
LAST-MODIFIED:20170626T191816Z
UID:448-1501533000-1501540200@flintcanyontennisclub.com
SUMMARY:Moonlight Round Robin (#4 of 7)
DESCRIPTION:Participants must be 5.0 and/or open level players.  \nMale and female participants welcomed.  \nMinimum age: 16 years old \nEntry Fee: $22/player \nTime: 8:30pm  (could end by 10 or 10:30pm)  \nPlease email or call to register.\nP: 818-790-3355\nE: admin@flintcanyon.com
URL:https://flintcanyontennisclub.com/event/moonlight-round-robin-event-4-7/
END:VEVENT
BEGIN:VEVENT
DTSTART;VALUE=DATE:20170729
DTEND;VALUE=DATE:20170730
DTSTAMP:20260421T223838
CREATED:20170427T161251Z
LAST-MODIFIED:20170427T164233Z
UID:409-1501286400-1501372799@flintcanyontennisclub.com
SUMMARY:Foothill Clubs MIXED Doubles Championship
DESCRIPTION:This is the first year that mixed doubles will be held! \nLevels: 3.5\, 4.0\, & 4.5 (Based on USTA Ratings)  \nFormat: Round Robin Shoot Out (One Day Format)  \nMatches to be held at Altadena Town & Country Club\, Live Oaks\, & Toluca Lake.  \nPlease register by emailing admin@flintcanyon.com (or your own club if you are not a member of FCTC)  \n(Members Only Event for all participating clubs)
URL:https://flintcanyontennisclub.com/event/foothill-clubs-championship-mixed-doubles/
ATTACH;FMTTYPE=image/jpeg:https://flintcanyontennisclub.com/wp-content/uploads/2016/09/membership4.jpg
END:VEVENT
BEGIN:VEVENT
DTSTART;TZID=UTC:20170727T173000
DTEND;TZID=UTC:20170730T203000
DTSTAMP:20260421T223838
CREATED:20170222T045324Z
LAST-MODIFIED:20170222T045352Z
UID:347-1501176600-1501446600@flintcanyontennisclub.com
SUMMARY:Men's & Women's Open Tournament
DESCRIPTION:Men’s & Women’s Open Singles\, Doubles & Mixed Doubles Event.  \nCome out and match up against other top level players! \nWeekends of July 27\, 28\, 29 & 30\nEntry Deadline: Monday July 24th  \nCost: $43.50 Singles (Single Elimination) – $27.50 Doubles (Per Player) \nEvents: Men’s & Women’s Singles Open\, Mixed Open Doubles\, and Mens or Women’s Open Doubles \nFor Tournament information (& to enter) Click here to enter through USTA’s registration  \nNOTES:\nMatches will NOT begin before 5:30pm on Thursday and Friday and not before 11 am on Saturday and Sunday.\nFor tournament questions contact Horacio directly by email: horacio@flintcanyon.com or call the club at 818-790-3355
URL:https://flintcanyontennisclub.com/event/mens-womens-open-tournament/
LOCATION:FCTC\, 265 Berkshire Ave\, La Canada\, CA\, 91011\, United States
END:VEVENT
BEGIN:VEVENT
DTSTART;TZID=UTC:20170724T203000
DTEND;TZID=UTC:20170724T223000
DTSTAMP:20260421T223838
CREATED:20170626T191623Z
LAST-MODIFIED:20170626T192311Z
UID:446-1500928200-1500935400@flintcanyontennisclub.com
SUMMARY:Summer Moonlight Round Robin (#3 of 7)
DESCRIPTION:Participants must be 5.0 and/or open level players.  \nMale and female participants welcomed.  \nMinimum age: 16 years old \nEntry Fee: $22/player \nTime: 8:30pm  (could end by 10 or 10:30pm)  \nPlease email or call to register.\nP: 818-790-3355\nE: admin@flintcanyon.com
URL:https://flintcanyontennisclub.com/event/summer-moonlight-round-robin-3-7/
END:VEVENT
BEGIN:VEVENT
DTSTART;TZID=UTC:20170717T203000
DTEND;TZID=UTC:20170717T223000
DTSTAMP:20260421T223838
CREATED:20170626T190043Z
LAST-MODIFIED:20170626T190043Z
UID:444-1500323400-1500330600@flintcanyontennisclub.com
SUMMARY:Summer Moonlight Round Robin (#2 of 7)
DESCRIPTION:Participants must be 5.0 and/or open level players.  \nMale and female participants welcomed.  \nMinimum age: 16 years old \nEntry Fee: $22/player \nTime: 8:30pm  (could end by 10 or 10:30pm)  \nPlease email or call to register.\nP: 818-790-3355\nE: admin@flintcanyon.com
URL:https://flintcanyontennisclub.com/event/summer-moonlight-round-robin-2-7/
LOCATION:FCTC\, 265 Berkshire Ave\, La Canada\, CA\, 91011\, United States
END:VEVENT
END:VCALENDAR