BEGIN:VCALENDAR
VERSION:2.0
PRODID:-//Flint Canyon Tennis Club - ECPv6.15.20//NONSGML v1.0//EN
CALSCALE:GREGORIAN
METHOD:PUBLISH
X-WR-CALNAME:Flint Canyon Tennis Club
X-ORIGINAL-URL:https://flintcanyontennisclub.com
X-WR-CALDESC:Events for Flint Canyon Tennis Club
REFRESH-INTERVAL;VALUE=DURATION:PT1H
X-Robots-Tag:noindex
X-PUBLISHED-TTL:PT1H
BEGIN:VTIMEZONE
TZID:UTC
BEGIN:STANDARD
TZOFFSETFROM:+0000
TZOFFSETTO:+0000
TZNAME:UTC
DTSTART:20160101T000000
END:STANDARD
END:VTIMEZONE
BEGIN:VEVENT
DTSTART;TZID=UTC:20170710T203000
DTEND;TZID=UTC:20170710T223000
DTSTAMP:20260421T205520
CREATED:20170626T185947Z
LAST-MODIFIED:20170626T185947Z
UID:442-1499718600-1499725800@flintcanyontennisclub.com
SUMMARY:Summer Moonlight Round Robin (#1 of 7)
DESCRIPTION:Participants must be 5.0 and/or open level players.  \nMale and female participants welcomed.  \nMinimum age: 16 years old \nEntry Fee: $22/player \nTime: 8:30pm  (could end by 10 or 10:30pm)  \nPlease email or call to register.\nP: 818-790-3355\nE: admin@flintcanyon.com
URL:https://flintcanyontennisclub.com/event/summer-moonlight-round-robin-1-7/
LOCATION:FCTC\, 265 Berkshire Ave\, La Canada\, CA\, 91011\, United States
END:VEVENT
BEGIN:VEVENT
DTSTART;TZID=UTC:20170708T110000
DTEND;TZID=UTC:20170709T200000
DTSTAMP:20260421T205520
CREATED:20170222T043329Z
LAST-MODIFIED:20170222T044137Z
UID:342-1499511600-1499630400@flintcanyontennisclub.com
SUMMARY:Junior Open Tournament (Weekend 2)
DESCRIPTION:The future of local tennis on display! (This is the 2nd weekend of this tournament)  \nHave your juniors play in this fun\, local\, USTA Tournament – or bring your little ones out to watch (and get inspired)!  \nWeekend of April 29\, 30 & May 1st \nCost: $43.50 Singles (Single Elimination)  \nEvents: Boys & Girls Singles (10s\, 12s\, 14s\, 16s\, & 18s)  \nFor Tournament information (& to enter) Link to enter tournament through USTA \nNOTES:\nMatches will NOT begin before 11 am on Saturday and Sunday and not before 4:30pm on Monday.\nFor tournament questions contact Horacio directly by email: horacio@flintcanyon.com or call the club at 818-790-3355
URL:https://flintcanyontennisclub.com/event/junior-open-tournament-weekend-2/
LOCATION:FCTC\, 265 Berkshire Ave\, La Canada\, CA\, 91011\, United States
END:VEVENT
BEGIN:VEVENT
DTSTART;TZID=UTC:20170701T110000
DTEND;TZID=UTC:20170702T200000
DTSTAMP:20260421T205520
CREATED:20170222T041437Z
LAST-MODIFIED:20170222T044303Z
UID:338-1498906800-1499025600@flintcanyontennisclub.com
SUMMARY:Junior Open Tournament (Weekend 1)
DESCRIPTION:The future of local tennis on display! \nHave your juniors play in this fun\, local\, USTA Tournament – or bring your little ones out to watch (and get inspired)!  \nWeekends of July 1\,2 & 8\,9\nEntry Deadline: Monday June 26th  \nCost: $43.50 Singles (Single Elimination)  \nEvents: Boys & Girls Singles (10s\, 12s\, 14s\, 16s\, & 18s)  \nFor Tournament information (& to enter) Link to enter tournament through USTA \nNOTES:\nMatches will NOT begin before 11 am on Saturday and Sunday.\nFor tournament questions contact Horacio directly by email: horacio@flintcanyon.com or call the club at 818-790-3355
URL:https://flintcanyontennisclub.com/event/junior-open-tournament-weekend-1/
LOCATION:FCTC\, 265 Berkshire Ave\, La Canada\, CA\, 91011\, United States
END:VEVENT
BEGIN:VEVENT
DTSTART;TZID=UTC:20170617T150000
DTEND;TZID=UTC:20170617T203000
DTSTAMP:20260421T205520
CREATED:20170222T035121Z
LAST-MODIFIED:20170222T035121Z
UID:334-1497711600-1497731400@flintcanyontennisclub.com
SUMMARY:"Welcome to the Summer" - Mixed Doubles Social
DESCRIPTION:Mixed Doubles Round Robin Event! \nAll levels are welcomed.\nSign-up with a partner or by yourself (and we will try to match you up with someone) \n3:00pm Round Robin \nBBQ Dinner to follow (from approximately 6 – 8:30pm) where we will have a live band! \nPlease email us to sign-up and with any questions at: admin@flintcanyon.com
URL:https://flintcanyontennisclub.com/event/welcome-summer-mixed-doubles-social/
LOCATION:FCTC\, 265 Berkshire Ave\, La Canada\, CA\, 91011\, United States
END:VEVENT
BEGIN:VEVENT
DTSTART;VALUE=DATE:20170519
DTEND;VALUE=DATE:20170522
DTSTAMP:20260421T205520
CREATED:20170222T034248Z
LAST-MODIFIED:20170222T035138Z
UID:332-1495152000-1495411199@flintcanyontennisclub.com
SUMMARY:La Jolla Beach & Tennis Club (Inter-Club)
DESCRIPTION:Join in on this fun\, tennis by the beach\, weekend! \nWe will have a fun day of tennis against members of La Jolla Beach & Tennis Club throughout the weekend….  \nOPTIONAL EVENING ACTIVITIES:\n– Friday Night: Group dinner at a local favorite Italian restaurant in the La Jolla Village followed by drinks at another local favorite spot in the village.\n– Saturday Night: BBQ/Bonfire on the beach at the tennis resort  \nWe have discounted rooms pre-booked for this event. Please call in advance to book your room\, mention our club for the discounted room rates.  \nThere is no cost for this event from us – however there will be a nominal fee for everyone participating to cover expenses incurred – to be split at the end (the club will pay for the dinner/bonfire and it will be charged at the end onto each persons house account).  \nPlease email us to sign-up and with any questions at: admin@flintcanyon.com
URL:https://flintcanyontennisclub.com/event/la-jolla-beach-tennis-club-inter-club/
END:VEVENT
BEGIN:VEVENT
DTSTART;TZID=UTC:20170429T110000
DTEND;TZID=UTC:20170501T200000
DTSTAMP:20260421T205520
CREATED:20170220T203350Z
LAST-MODIFIED:20170222T044426Z
UID:326-1493463600-1493668800@flintcanyontennisclub.com
SUMMARY:Junior Open Tournament (3 day event)
DESCRIPTION:The future of local tennis on display! \nHave your juniors play in this fun\, local\, USTA Tournament – or bring your little ones out to watch (and get inspired)!  \nWeekend of April 29\, 30 & May 1st\nEntry Deadline: Monday April 24th  \nCost: $43.50 Singles (Single Elimination)  \nEvents: Boys & Girls Singles (10s\, 12s\, 14s\, 16s\, & 18s)  \nFor Tournament information (& to enter) – click on this link – it will re-direct you to the Tournament’s USTA website.  \nNOTES:\nMatches will NOT begin before 11 am on Saturday and Sunday and not before 4:30pm on Monday.\nFor tournament questions contact Horacio directly by email: horacio@flintcanyon.com or call the club at 818-790-3355
URL:https://flintcanyontennisclub.com/event/spring-jr-open-tournament-usta-level-5-weekend-1/
LOCATION:FCTC\, 265 Berkshire Ave\, La Canada\, CA\, 91011\, United States
END:VEVENT
BEGIN:VEVENT
DTSTART;TZID=UTC:20170401T080000
DTEND;TZID=UTC:20170401T170000
DTSTAMP:20260421T205520
CREATED:20170214T195210Z
LAST-MODIFIED:20170222T035155Z
UID:323-1491033600-1491066000@flintcanyontennisclub.com
SUMMARY:Foothill Clubs Doubles Championship
DESCRIPTION:New format this year! This will be the first year we will be having this event as a 1 day only\, “round robin shoot out” style format.     \nThis is your chance to test out your doubles skills against new players from other clubs.  \nMatches will be held at here at home (FCTC)\, Valley Hunt Club\, Live Oaks\, Toluca Lake\, and Altadena Country Club. This event is based off your USTA rating.  \nPlease Note – This is a members only event (for all of the participating clubs).  \nPlease email us at admin@flintcanyon.com if you have further questions and/or wish to enter this (either alone or with a partner).
URL:https://flintcanyontennisclub.com/event/foothill-clubs-doubles-championship/
END:VEVENT
BEGIN:VEVENT
DTSTART;TZID=UTC:20170217T080000
DTEND;TZID=UTC:20170219T170000
DTSTAMP:20260421T205520
CREATED:20170213T192454Z
LAST-MODIFIED:20170214T171335Z
UID:320-1487318400-1487523600@flintcanyontennisclub.com
SUMMARY:Trip To Palm Desert (February 17-19)
DESCRIPTION:Join us for a fun trip to the Palm Springs area! Our club will play against other clubs in the desert.  \nOur hotel of choice is Shadow Mountain Resort & Tennis Club. If you stay at this hotel you will receive our discounted group rate (and avoid a guest fee when we play at this location\, as this will be our “home” court).  \nPlease email us at: admin@flintcanyon.com for more details on this event.  \nNOTICE: EVENT IS CANCELED! ON FEBRUARY 14TH – WE DECIDED TO CANCEL THIS WEEKENDS EVENT SINCE THERE IS AN 80% CHANCE OF RAIN FORECASTED IN THE DESERT THIS WEEKEND! WE WILL RE-SCHEDULE THIS EVENT FOR A FUTURE DATE. WE WILL SEND AN EMAIL NOTIFICATION ABOUT THIS ONCE A NEW DATE IS SET.
URL:https://flintcanyontennisclub.com/event/trip-palm-desert-february-17-19/
ATTACH;FMTTYPE=image/jpeg:https://flintcanyontennisclub.com/wp-content/uploads/2017/02/Tennis.jpg
END:VEVENT
END:VCALENDAR